BEGIN:VCALENDAR
VERSION:2.0
PRODID:-//eventon.com NONSGML v1.0//EN
BEGIN:VEVENT
UID:69e88bd43cdc1
DTSTAMP:20260422T145028
DTSTART:20200718T040000Z
DTEND:20200718T130000Z
LOCATION:Dickey-Stephens Park 400 W. Broadway Street
SUMMARY:Arkansas Travelers Disc Golf
DESCRIPTION: The Arkansas Travelers are excited to announce Disc Golf at Dickey-Stephens Park on Saturday July 18th and Sunday July 19th. Tee times will be available from 10am to 7pm on 7/18 and 1pm to 5pm on 7/19. $55 for a 4 person team. Call 501-664-1555 or sophie@travs.com to reserve a[..]
END:VEVENT
END:VCALENDAR