BEGIN:VCALENDAR
VERSION:2.0
PRODID:-//eventon.com NONSGML v1.0//EN
BEGIN:VEVENT
UID:69ecf11c5e60f
DTSTAMP:20260425T225140
DTSTART:20210604T130000Z
DTEND:20210604T150000Z
LOCATION:Simmons Bank Arena 1 Simmons Bank Arena Drive
SUMMARY:The Real Mike Epps: In Real Life Comedy Tour
DESCRIPTION: Mike Epps brings his all new REAL LIFE COMEDY TOUR to Simmons Bank Arena\,  June 4th\,  2021 at 7pm! Epps will be joined on stage with some of comedy’s most talented and sought-after entertainers\,  including Michael Blackson\,  DC Young Fly\,  Karlous Miller and Kountry Wayne. Share the laughs and get[..]
END:VEVENT
END:VCALENDAR