BEGIN:VCALENDAR
VERSION:2.0
PRODID:-//eventon.com NONSGML v1.0//EN
BEGIN:VEVENT
UID:69e73b437200e
DTSTAMP:20260421T145427
DTSTART:20211205T080000Z
DTEND:20211205T100000Z
LOCATION:Argenta Arts District 300 Main Street
SUMMARY:North Little Rock Sertoma Christmas Parade
DESCRIPTION: The annual North Little Rock Christmas Parade features floats\,  marching groups\,  decorated cars and trucks and equestrian riders. The event is free and open to the public. Route: Pershing & Willow south on Main Street to Washington Avenue &nbsp;
END:VEVENT
END:VCALENDAR