BEGIN:VCALENDAR
VERSION:2.0
PRODID:-//eventon.com NONSGML v1.0//EN
BEGIN:VEVENT
UID:69e8924fa243b
DTSTAMP:20260422T151807
DTSTART:20211126T140000Z
DTEND:20211126T160000Z
LOCATION:The Joint Comedy Theater 301 Main Street\,  North Little Rock\,  AR 72114
SUMMARY:A Fertle Holiday
DESCRIPTION: Fan Favorite Show "A Fertle Holiday" is back this year after missing last holiday season! A FERTLE HOLIDAY - This original comedy chronicles the Fertle Family's trouble-ridden holiday reunion in the tiny town of Dumpster\,  Arkansas. The Main Thing comedy trio brings the quirky family to life by portraying all[..]
END:VEVENT
END:VCALENDAR