BEGIN:VCALENDAR
VERSION:2.0
PRODID:-//eventon.com NONSGML v1.0//EN
BEGIN:VEVENT
UID:69ecf43837db9
DTSTAMP:20260425T230456
DTSTART:20231019T133000Z
DTEND:20231019T160000Z
LOCATION:The Joint Comedy Theater 301 Main Street\,  North Little Rock\,  AR 72114
SUMMARY:Argenta Acoustic Music Series: Pat Kirtley
DESCRIPTION: PAT KIRTLEY October 19\,  20237:30pm 301 Main StreetNorth Little Rock\,  AR 72114 BUY TICKETS Pat Kirtley grew up in a musical Kentucky family. As a child he was exposed to the musical influences of his mother’s family – listening to country and bluegrass – and his father’s family who were more attracted to pop and classical music.[1] Kirtley’s[..]
END:VEVENT
END:VCALENDAR