BEGIN:VCALENDAR
VERSION:2.0
PRODID:-//eventon.com NONSGML v1.0//EN
BEGIN:VEVENT
UID:69e88be4342a3
DTSTAMP:20260422T145044
DTSTART:20230404T180000Z
DTEND:20230405T175900Z
LOCATION:McCain Mall 3929 McCain Blvd.
SUMMARY:Easter Bunny Photos at McCain Mall
DESCRIPTION: Strike a pose\,  the Easter Bunny is here for photos! Reserve your visit now and make it an Easter Tradition! Easter Bunny Photo Hours: March 24th: 11am-7pm March 25th: 11am-7pm March 26th: 12-6pm March 27th: 2-7pm March 28th: 2-7pm March 29th: 2-7pm March 30th: 2-7pm March 31st: 11am-7pm April 1st:[..]
END:VEVENT
END:VCALENDAR