BEGIN:VCALENDAR
VERSION:2.0
PRODID:-//eventon.com NONSGML v1.0//EN
BEGIN:VEVENT
UID:69e88b98e84bc
DTSTAMP:20260422T144928
DTSTART:20230430T060000Z
DTEND:20230430T110000Z
LOCATION:St. Joseph Center of Arkansas 6800 Camp Robinson Road\,  North Little Rock\,  AR 72118
SUMMARY:St. Joseph Farm Stand
DESCRIPTION: Shop local goods\,  see the farm animals and enjoy the outdoors.
END:VEVENT
END:VCALENDAR