BEGIN:VCALENDAR
VERSION:2.0
PRODID:-//eventon.com NONSGML v1.0//EN
BEGIN:VEVENT
UID:69e638c70133f
DTSTAMP:20260420T203135
DTSTART:20240203T050000Z
DTEND:20240203T113000Z
LOCATION:
SUMMARY:River Trail 15k
DESCRIPTION: Arkansas’ fastest and most scenic 15K! 100% paved course travels along the Arkansas River\,  Old Rock Quarry\,  Burns Park and more. The RiverTrail 15k will be a Grand Prix Championship race.  Packet pickup 2-2-24 at Rock City Running 11121 North Rodney Parham Road Suite 37B in Little Rock from 11am-5:30pm.[..]
END:VEVENT
END:VCALENDAR