BEGIN:VCALENDAR
VERSION:2.0
PRODID:-//eventon.com NONSGML v1.0//EN
BEGIN:VEVENT
UID:69ebdd6877186
DTSTAMP:20260425T031520
DTSTART:20240912T133000Z
DTEND:20240912T153000Z
LOCATION:Argenta Contemporary Theater 405 Main St.
SUMMARY:The Sunshine Boys at Argenta Contemporary Theater
DESCRIPTION: Argenta Contemporary Theatre in partnership with ACANSA Arts Festival of the South is pleased to announce the cast for THE SUNSHINE BOYS. Performances run September 11-21. The play stars Little Rock’s P. Jay Clark as Willie Clark and New York native Freddy Geils as Al Lewis who were top-billed vaudevillians[..]
END:VEVENT
END:VCALENDAR