BEGIN:VCALENDAR
VERSION:2.0
PRODID:-//eventon.com NONSGML v1.0//EN
BEGIN:VEVENT
UID:69ebcb0c06533
DTSTAMP:20260425T015700
DTSTART:20240913T123000Z
DTEND:20240913T133000Z
LOCATION:Argenta Plaza 510 Main Street
SUMMARY:Ballet Arkansas presents "Bold New Moves" - FREE
DESCRIPTION: Ballet Arkansas and North Little Rock Tourism are thrilled to announce the free public performances of Bold New Moves September 13 – September 15\,  2024\,  at Argenta Plaza\,  510 Main Street in North Little Rock. “NLR’s Argenta Plaza provides the perfect backdrop for Ballet Arkansas to showcase the creativity and talent of our Company Artists. The[..]
END:VEVENT
END:VCALENDAR