BEGIN:VCALENDAR
VERSION:2.0
PRODID:-//eventon.com NONSGML v1.0//EN
BEGIN:VEVENT
UID:69ebc4badcd8f
DTSTAMP:20260425T013002
DTSTART:20240914T130000Z
DTEND:20240914T150000Z
LOCATION:Argenta Arts District 300 Main Street
SUMMARY:Gangstagrass
DESCRIPTION: Gangstagrass in partnership with Argenta Arts District Dogtown Throwdown Sat.\,  September 14 | 7:00pm | Argenta Arts District 406 Main Street (Outdoors) North Little Rock\,  AR 72114 Gangstagrass is the Emmy-nominated\,  Billboard-charting band known for its dynamism and spontaneity – and the theme song for Justified\,  the FX television show.[..]
END:VEVENT
END:VCALENDAR