BEGIN:VCALENDAR
VERSION:2.0
PRODID:-//eventon.com NONSGML v1.0//EN
BEGIN:VEVENT
UID:69ebc419d43eb
DTSTAMP:20260425T012721
DTSTART:20240913T180000Z
DTEND:20240914T175900Z
LOCATION:Camp Joseph T. Robinson 
SUMMARY:Minuteman Day 2024
DESCRIPTION: Minuteman Day will be held again at Camp Robinson! This is an fun filled day designed for the Arkansas Army and Air National Guard to engage with the local community through a variety of events. We cannot wait to host you on this open base day! Here’s what’s in store:[..]
END:VEVENT
END:VCALENDAR